BEGIN:VCALENDAR
VERSION:2.0
PRODID:MATBUS Calendar
UID:60bfa8cf103c5749f878a6fa@cityoffargo.com
BEGIN:VEVENT
DTSTAMP:2021-06-08T17:28:39.058Z
DTSTART:2021-11-25T06:00:00.000Z
DTEND:2021-11-26T05:59:00.000Z
SUMMARY:Thanksgiving Day Holiday
DESCRIPTION:Due to the holiday, there will be no bus service. The GTC and Admin Offices will be closed.
URL:http://matbus.com/news-events/calendar/event-detail?id=60bfa8cf103c5749f878a6fa
X-ALT-DESC;FMTTYPE=text/html:<p>Due to the holiday, there will be no bus service. The GTC and Admin Offices will be closed.</p>

LOCATION:
X-MICROSOFT-CDO-ALLDAYEVENT:false
END:VEVENT
END:VCALENDAR